BEGIN:VCALENDAR
PRODID:-//kirchenweb.ch gmbh//veranstaltungsausgabe v2.0//DE
VERSION:2.0
METHOD:PUBLISH
BEGIN:VEVENT
DTSTART:20260503T071500Z
DTEND:20260503T081500Z
LOCATION:Johanneskirche\, Kirchstrasse\, 9304 Bernhardzell
TRANSP:OPAQUE
SEQUENCE:0
UID:46426-veranstaltung@seelsorgeeinheitgossau.ch
DTSTAMP:20260107T065145Z
DESCRIPTION:Wortgottesfeier mit Kommunion\n\nKontakt:
  heidi.aggeler@seelsorgeeinheitgossau.ch\n\nWeitere Infos:
  https://www.seelsorgeeinheitgossau.ch/veranstaltung/46426
SUMMARY:Wortgottesfeier mit Kommunion in der Johanneskirche
PRIORITY:5
X-MICROSOFT-CDO-IMPORTANCE:1
CLASS:PUBLIC
END:VEVENT
END:VCALENDAR
